BEGIN:VCALENDAR
VERSION:2.0
PRODID:-//swoogo.com//NONSGML kigkonsult.se iCalcreator 2.41.90//
CALSCALE:GREGORIAN
UID:38666261-6535-4032-a561-623139656664
BEGIN:VEVENT
UID:45e683d9a0331082efd635b7620b440bc1ff17e6@swoogo.com
DTSTAMP:20260421T175925Z
DESCRIPTION:
DTSTART:20230711T230000Z
DTEND:20230712T001500Z
LAST-MODIFIED:20260421T175925Z
LOCATION:https://cff.swoogo.com/ICSGD/v/e
SEQUENCE:0
STATUS:CONFIRMED
SUMMARY:#IdentityCrisis Small Group Discussion
TRANSP:OPAQUE
X-ALT-DESC:
BEGIN:VALARM
UID:35346530-3530-4965-b932-646636353466
ACTION:DISPLAY
DESCRIPTION:
TRIGGER:-PT15M
END:VALARM
END:VEVENT
END:VCALENDAR
